BEGIN:VCALENDAR
VERSION:2.0
PRODID:-//Chilliwack Cultural Centre - ECPv6.15.20//NONSGML v1.0//EN
CALSCALE:GREGORIAN
METHOD:PUBLISH
X-WR-CALNAME:Chilliwack Cultural Centre
X-ORIGINAL-URL:https://www.chilliwackculturalcentre.ca
X-WR-CALDESC:Events for Chilliwack Cultural Centre
REFRESH-INTERVAL;VALUE=DURATION:PT1H
X-Robots-Tag:noindex
X-PUBLISHED-TTL:PT1H
BEGIN:VTIMEZONE
TZID:America/Vancouver
BEGIN:DAYLIGHT
TZOFFSETFROM:-0800
TZOFFSETTO:-0700
TZNAME:PDT
DTSTART:20250309T100000
END:DAYLIGHT
BEGIN:STANDARD
TZOFFSETFROM:-0700
TZOFFSETTO:-0800
TZNAME:PST
DTSTART:20251102T090000
END:STANDARD
BEGIN:DAYLIGHT
TZOFFSETFROM:-0800
TZOFFSETTO:-0700
TZNAME:PDT
DTSTART:20260308T100000
END:DAYLIGHT
BEGIN:STANDARD
TZOFFSETFROM:-0700
TZOFFSETTO:-0800
TZNAME:PST
DTSTART:20261101T090000
END:STANDARD
BEGIN:DAYLIGHT
TZOFFSETFROM:-0800
TZOFFSETTO:-0700
TZNAME:PDT
DTSTART:20270314T100000
END:DAYLIGHT
BEGIN:STANDARD
TZOFFSETFROM:-0700
TZOFFSETTO:-0800
TZNAME:PST
DTSTART:20271107T090000
END:STANDARD
END:VTIMEZONE
BEGIN:VEVENT
DTSTART;TZID=America/Vancouver:20260520T190000
DTEND;TZID=America/Vancouver:20260520T210000
DTSTAMP:20260421T020140
CREATED:20260304T165056Z
LAST-MODIFIED:20260305T224404Z
UID:10019732-1779303600-1779310800@www.chilliwackculturalcentre.ca
SUMMARY:Disney's High School Musical
DESCRIPTION:Price:\n$30.00 – Adults\n$25.00 – Senior/Student \nDate and Time:\nMay 20\, 2026 – 7:00 PM\nMay 21\, 2026 – 7:00 PM\nMay 22\, 2026 – 7:00 PM\nMay 23\, 2026 – 1:00 PM\nMay 23\, 2026 – 7:00 PM \n  \n\n  \nWe’re all in this together with Disney’s High School Musical ON STAGE! as students perform catchy songs\, iconic dance steps and encourage others to stand firm in their identity and use their talents in multiple ways.\nTroy\, the basketball team captain\, discovers that he loves to sing and finds himself as the lead of the school musical. Upsetting the status quo turns the whole school inside out and upside down\, until they realize that labels are hurtful and counterproductive. This family-friendly musical is filled with positive messages about friendship\, trying new things and pursuing dreams as teens seek to find their place in the world. \nIgnite Theatre\, a dynamic group of Heritage Christian Online School students ranging from Grades 5-12\, is committed to a high standard of excellence in acting\, singing\, and choreography\, as well as costumes and impressive set design. \nCome and be inspired as this smash hit sensation unfurls on stage from May 20th to 23rd in The HUB International Theatre. We expect to sell out quickly\, so be sure to grab your tickets early. \nSee you in the seats!
URL:https://www.chilliwackculturalcentre.ca/ccc-event/disneys-high-school-musical/2026-05-20/
LOCATION:HUB International Theatre\, 9201 Corbould St\, Chilliwack\, British Columbia\, V2P 4A6\, Canada
CATEGORIES:Show (Ticketed)
ATTACH;FMTTYPE=image/webp:https://www.chilliwackculturalcentre.ca/wordpress/wp-content/uploads/2026/03/HighSchoolMusical_WEB.webp
ORGANIZER;CN="Ignite Theatre":MAILTO:info@ignitetheatre.ca
END:VEVENT
BEGIN:VEVENT
DTSTART;TZID=America/Vancouver:20260521T190000
DTEND;TZID=America/Vancouver:20260521T210000
DTSTAMP:20260421T020140
CREATED:20260304T165056Z
LAST-MODIFIED:20260305T224404Z
UID:10019727-1779390000-1779397200@www.chilliwackculturalcentre.ca
SUMMARY:Disney's High School Musical
DESCRIPTION:Price:\n$30.00 – Adults\n$25.00 – Senior/Student \nDate and Time:\nMay 20\, 2026 – 7:00 PM\nMay 21\, 2026 – 7:00 PM\nMay 22\, 2026 – 7:00 PM\nMay 23\, 2026 – 1:00 PM\nMay 23\, 2026 – 7:00 PM \n  \n\n  \nWe’re all in this together with Disney’s High School Musical ON STAGE! as students perform catchy songs\, iconic dance steps and encourage others to stand firm in their identity and use their talents in multiple ways.\nTroy\, the basketball team captain\, discovers that he loves to sing and finds himself as the lead of the school musical. Upsetting the status quo turns the whole school inside out and upside down\, until they realize that labels are hurtful and counterproductive. This family-friendly musical is filled with positive messages about friendship\, trying new things and pursuing dreams as teens seek to find their place in the world. \nIgnite Theatre\, a dynamic group of Heritage Christian Online School students ranging from Grades 5-12\, is committed to a high standard of excellence in acting\, singing\, and choreography\, as well as costumes and impressive set design. \nCome and be inspired as this smash hit sensation unfurls on stage from May 20th to 23rd in The HUB International Theatre. We expect to sell out quickly\, so be sure to grab your tickets early. \nSee you in the seats!
URL:https://www.chilliwackculturalcentre.ca/ccc-event/disneys-high-school-musical/2026-05-21/
LOCATION:HUB International Theatre\, 9201 Corbould St\, Chilliwack\, British Columbia\, V2P 4A6\, Canada
CATEGORIES:Show (Ticketed)
ATTACH;FMTTYPE=image/webp:https://www.chilliwackculturalcentre.ca/wordpress/wp-content/uploads/2026/03/HighSchoolMusical_WEB.webp
ORGANIZER;CN="Ignite Theatre":MAILTO:info@ignitetheatre.ca
END:VEVENT
BEGIN:VEVENT
DTSTART;TZID=America/Vancouver:20260522T190000
DTEND;TZID=America/Vancouver:20260522T210000
DTSTAMP:20260421T020140
CREATED:20260304T165056Z
LAST-MODIFIED:20260305T224404Z
UID:10019728-1779476400-1779483600@www.chilliwackculturalcentre.ca
SUMMARY:Disney's High School Musical
DESCRIPTION:Price:\n$30.00 – Adults\n$25.00 – Senior/Student \nDate and Time:\nMay 20\, 2026 – 7:00 PM\nMay 21\, 2026 – 7:00 PM\nMay 22\, 2026 – 7:00 PM\nMay 23\, 2026 – 1:00 PM\nMay 23\, 2026 – 7:00 PM \n  \n\n  \nWe’re all in this together with Disney’s High School Musical ON STAGE! as students perform catchy songs\, iconic dance steps and encourage others to stand firm in their identity and use their talents in multiple ways.\nTroy\, the basketball team captain\, discovers that he loves to sing and finds himself as the lead of the school musical. Upsetting the status quo turns the whole school inside out and upside down\, until they realize that labels are hurtful and counterproductive. This family-friendly musical is filled with positive messages about friendship\, trying new things and pursuing dreams as teens seek to find their place in the world. \nIgnite Theatre\, a dynamic group of Heritage Christian Online School students ranging from Grades 5-12\, is committed to a high standard of excellence in acting\, singing\, and choreography\, as well as costumes and impressive set design. \nCome and be inspired as this smash hit sensation unfurls on stage from May 20th to 23rd in The HUB International Theatre. We expect to sell out quickly\, so be sure to grab your tickets early. \nSee you in the seats!
URL:https://www.chilliwackculturalcentre.ca/ccc-event/disneys-high-school-musical/2026-05-22/
LOCATION:HUB International Theatre\, 9201 Corbould St\, Chilliwack\, British Columbia\, V2P 4A6\, Canada
CATEGORIES:Show (Ticketed)
ATTACH;FMTTYPE=image/webp:https://www.chilliwackculturalcentre.ca/wordpress/wp-content/uploads/2026/03/HighSchoolMusical_WEB.webp
ORGANIZER;CN="Ignite Theatre":MAILTO:info@ignitetheatre.ca
END:VEVENT
BEGIN:VEVENT
DTSTART;TZID=America/Vancouver:20260523T130000
DTEND;TZID=America/Vancouver:20260523T150000
DTSTAMP:20260421T020140
CREATED:20260304T165056Z
LAST-MODIFIED:20260305T224404Z
UID:10019729-1779541200-1779548400@www.chilliwackculturalcentre.ca
SUMMARY:Disney's High School Musical
DESCRIPTION:Price:\n$30.00 – Adults\n$25.00 – Senior/Student \nDate and Time:\nMay 20\, 2026 – 7:00 PM\nMay 21\, 2026 – 7:00 PM\nMay 22\, 2026 – 7:00 PM\nMay 23\, 2026 – 1:00 PM\nMay 23\, 2026 – 7:00 PM \n  \n\n  \nWe’re all in this together with Disney’s High School Musical ON STAGE! as students perform catchy songs\, iconic dance steps and encourage others to stand firm in their identity and use their talents in multiple ways.\nTroy\, the basketball team captain\, discovers that he loves to sing and finds himself as the lead of the school musical. Upsetting the status quo turns the whole school inside out and upside down\, until they realize that labels are hurtful and counterproductive. This family-friendly musical is filled with positive messages about friendship\, trying new things and pursuing dreams as teens seek to find their place in the world. \nIgnite Theatre\, a dynamic group of Heritage Christian Online School students ranging from Grades 5-12\, is committed to a high standard of excellence in acting\, singing\, and choreography\, as well as costumes and impressive set design. \nCome and be inspired as this smash hit sensation unfurls on stage from May 20th to 23rd in The HUB International Theatre. We expect to sell out quickly\, so be sure to grab your tickets early. \nSee you in the seats!
URL:https://www.chilliwackculturalcentre.ca/ccc-event/disneys-high-school-musical/2026-05-23/1/
LOCATION:HUB International Theatre\, 9201 Corbould St\, Chilliwack\, British Columbia\, V2P 4A6\, Canada
CATEGORIES:Show (Ticketed)
ATTACH;FMTTYPE=image/webp:https://www.chilliwackculturalcentre.ca/wordpress/wp-content/uploads/2026/03/HighSchoolMusical_WEB.webp
ORGANIZER;CN="Ignite Theatre":MAILTO:info@ignitetheatre.ca
END:VEVENT
BEGIN:VEVENT
DTSTART;TZID=America/Vancouver:20260523T190000
DTEND;TZID=America/Vancouver:20260523T210000
DTSTAMP:20260421T020140
CREATED:20260304T165056Z
LAST-MODIFIED:20260305T224404Z
UID:10019730-1779562800-1779570000@www.chilliwackculturalcentre.ca
SUMMARY:Disney's High School Musical
DESCRIPTION:Price:\n$30.00 – Adults\n$25.00 – Senior/Student \nDate and Time:\nMay 20\, 2026 – 7:00 PM\nMay 21\, 2026 – 7:00 PM\nMay 22\, 2026 – 7:00 PM\nMay 23\, 2026 – 1:00 PM\nMay 23\, 2026 – 7:00 PM \n  \n\n  \nWe’re all in this together with Disney’s High School Musical ON STAGE! as students perform catchy songs\, iconic dance steps and encourage others to stand firm in their identity and use their talents in multiple ways.\nTroy\, the basketball team captain\, discovers that he loves to sing and finds himself as the lead of the school musical. Upsetting the status quo turns the whole school inside out and upside down\, until they realize that labels are hurtful and counterproductive. This family-friendly musical is filled with positive messages about friendship\, trying new things and pursuing dreams as teens seek to find their place in the world. \nIgnite Theatre\, a dynamic group of Heritage Christian Online School students ranging from Grades 5-12\, is committed to a high standard of excellence in acting\, singing\, and choreography\, as well as costumes and impressive set design. \nCome and be inspired as this smash hit sensation unfurls on stage from May 20th to 23rd in The HUB International Theatre. We expect to sell out quickly\, so be sure to grab your tickets early. \nSee you in the seats!
URL:https://www.chilliwackculturalcentre.ca/ccc-event/disneys-high-school-musical/2026-05-23/2/
LOCATION:HUB International Theatre\, 9201 Corbould St\, Chilliwack\, British Columbia\, V2P 4A6\, Canada
CATEGORIES:Show (Ticketed)
ATTACH;FMTTYPE=image/webp:https://www.chilliwackculturalcentre.ca/wordpress/wp-content/uploads/2026/03/HighSchoolMusical_WEB.webp
ORGANIZER;CN="Ignite Theatre":MAILTO:info@ignitetheatre.ca
END:VEVENT
END:VCALENDAR