BEGIN:VCALENDAR
VERSION:2.0
PRODID:-//Chilliwack Cultural Centre - ECPv6.15.20//NONSGML v1.0//EN
CALSCALE:GREGORIAN
METHOD:PUBLISH
X-WR-CALNAME:Chilliwack Cultural Centre
X-ORIGINAL-URL:https://www.chilliwackculturalcentre.ca
X-WR-CALDESC:Events for Chilliwack Cultural Centre
REFRESH-INTERVAL;VALUE=DURATION:PT1H
X-Robots-Tag:noindex
X-PUBLISHED-TTL:PT1H
BEGIN:VTIMEZONE
TZID:America/Vancouver
BEGIN:DAYLIGHT
TZOFFSETFROM:-0800
TZOFFSETTO:-0700
TZNAME:PDT
DTSTART:20250309T100000
END:DAYLIGHT
BEGIN:STANDARD
TZOFFSETFROM:-0700
TZOFFSETTO:-0800
TZNAME:PST
DTSTART:20251102T090000
END:STANDARD
BEGIN:DAYLIGHT
TZOFFSETFROM:-0800
TZOFFSETTO:-0700
TZNAME:PDT
DTSTART:20260308T100000
END:DAYLIGHT
BEGIN:STANDARD
TZOFFSETFROM:-0700
TZOFFSETTO:-0800
TZNAME:PST
DTSTART:20261101T090000
END:STANDARD
BEGIN:DAYLIGHT
TZOFFSETFROM:-0800
TZOFFSETTO:-0700
TZNAME:PDT
DTSTART:20270314T100000
END:DAYLIGHT
BEGIN:STANDARD
TZOFFSETFROM:-0700
TZOFFSETTO:-0800
TZNAME:PST
DTSTART:20271107T090000
END:STANDARD
END:VTIMEZONE
BEGIN:VEVENT
DTSTART;TZID=America/Vancouver:20260506T160000
DTEND;TZID=America/Vancouver:20260506T170000
DTSTAMP:20260423T030130
CREATED:20251104T212002Z
LAST-MODIFIED:20260304T164707Z
UID:10018416-1778083200-1778086800@www.chilliwackculturalcentre.ca
SUMMARY:Intro to Anime
DESCRIPTION:Price\n$110 – 6 sessions \nDates & Times\nWednesdays\, May 6 to June 10 – 4:00 – 5:00 pm\n \nInstructor\nColin Hoffman \nYouth (11-13)\, Beginner\n\n\n\nDive into the world of anime art with this beginner’s class that teaches students how to draw in the popular Japanese animation style. You’ll learn the key features of anime characters\, including large expressive eyes\, exaggerated expressions\, and dynamic poses. The class also covers basic anatomy and proportion\, helping you create characters that move and interact in a believable way. Whether you’re a fan of anime or interested in learning a new drawing style\, this class offers a fun and creative introduction to the art form. \n*All supplies included
URL:https://www.chilliwackculturalcentre.ca/ccc-event/intro-to-anime/2026-05-06/
LOCATION:Arts & Crafts Studio\, 9201 Corbould St\, Chilliwack\, British Columbia\, V2P 4A6\, Canada
CATEGORIES:Class Registration,Painting & Drawing Classes,Youth Class
ATTACH;FMTTYPE=image/webp:https://www.chilliwackculturalcentre.ca/wordpress/wp-content/uploads/2025/11/April-May-Class-Icons7.webp
END:VEVENT
BEGIN:VEVENT
DTSTART;TZID=America/Vancouver:20260513T160000
DTEND;TZID=America/Vancouver:20260513T170000
DTSTAMP:20260423T030130
CREATED:20251104T212002Z
LAST-MODIFIED:20260304T164707Z
UID:10018417-1778688000-1778691600@www.chilliwackculturalcentre.ca
SUMMARY:Intro to Anime
DESCRIPTION:Price\n$110 – 6 sessions \nDates & Times\nWednesdays\, May 6 to June 10 – 4:00 – 5:00 pm\n \nInstructor\nColin Hoffman \nYouth (11-13)\, Beginner\n\n\n\nDive into the world of anime art with this beginner’s class that teaches students how to draw in the popular Japanese animation style. You’ll learn the key features of anime characters\, including large expressive eyes\, exaggerated expressions\, and dynamic poses. The class also covers basic anatomy and proportion\, helping you create characters that move and interact in a believable way. Whether you’re a fan of anime or interested in learning a new drawing style\, this class offers a fun and creative introduction to the art form. \n*All supplies included
URL:https://www.chilliwackculturalcentre.ca/ccc-event/intro-to-anime/2026-05-13/
LOCATION:Arts & Crafts Studio\, 9201 Corbould St\, Chilliwack\, British Columbia\, V2P 4A6\, Canada
CATEGORIES:Class Registration,Painting & Drawing Classes,Youth Class
ATTACH;FMTTYPE=image/webp:https://www.chilliwackculturalcentre.ca/wordpress/wp-content/uploads/2025/11/April-May-Class-Icons7.webp
END:VEVENT
BEGIN:VEVENT
DTSTART;TZID=America/Vancouver:20260520T160000
DTEND;TZID=America/Vancouver:20260520T170000
DTSTAMP:20260423T030130
CREATED:20251104T212002Z
LAST-MODIFIED:20260304T164707Z
UID:10018418-1779292800-1779296400@www.chilliwackculturalcentre.ca
SUMMARY:Intro to Anime
DESCRIPTION:Price\n$110 – 6 sessions \nDates & Times\nWednesdays\, May 6 to June 10 – 4:00 – 5:00 pm\n \nInstructor\nColin Hoffman \nYouth (11-13)\, Beginner\n\n\n\nDive into the world of anime art with this beginner’s class that teaches students how to draw in the popular Japanese animation style. You’ll learn the key features of anime characters\, including large expressive eyes\, exaggerated expressions\, and dynamic poses. The class also covers basic anatomy and proportion\, helping you create characters that move and interact in a believable way. Whether you’re a fan of anime or interested in learning a new drawing style\, this class offers a fun and creative introduction to the art form. \n*All supplies included
URL:https://www.chilliwackculturalcentre.ca/ccc-event/intro-to-anime/2026-05-20/
LOCATION:Arts & Crafts Studio\, 9201 Corbould St\, Chilliwack\, British Columbia\, V2P 4A6\, Canada
CATEGORIES:Class Registration,Painting & Drawing Classes,Youth Class
ATTACH;FMTTYPE=image/webp:https://www.chilliwackculturalcentre.ca/wordpress/wp-content/uploads/2025/11/April-May-Class-Icons7.webp
END:VEVENT
BEGIN:VEVENT
DTSTART;TZID=America/Vancouver:20260527T160000
DTEND;TZID=America/Vancouver:20260527T170000
DTSTAMP:20260423T030130
CREATED:20251104T212002Z
LAST-MODIFIED:20260304T164707Z
UID:10018419-1779897600-1779901200@www.chilliwackculturalcentre.ca
SUMMARY:Intro to Anime
DESCRIPTION:Price\n$110 – 6 sessions \nDates & Times\nWednesdays\, May 6 to June 10 – 4:00 – 5:00 pm\n \nInstructor\nColin Hoffman \nYouth (11-13)\, Beginner\n\n\n\nDive into the world of anime art with this beginner’s class that teaches students how to draw in the popular Japanese animation style. You’ll learn the key features of anime characters\, including large expressive eyes\, exaggerated expressions\, and dynamic poses. The class also covers basic anatomy and proportion\, helping you create characters that move and interact in a believable way. Whether you’re a fan of anime or interested in learning a new drawing style\, this class offers a fun and creative introduction to the art form. \n*All supplies included
URL:https://www.chilliwackculturalcentre.ca/ccc-event/intro-to-anime/2026-05-27/
LOCATION:Arts & Crafts Studio\, 9201 Corbould St\, Chilliwack\, British Columbia\, V2P 4A6\, Canada
CATEGORIES:Class Registration,Painting & Drawing Classes,Youth Class
ATTACH;FMTTYPE=image/webp:https://www.chilliwackculturalcentre.ca/wordpress/wp-content/uploads/2025/11/April-May-Class-Icons7.webp
END:VEVENT
BEGIN:VEVENT
DTSTART;TZID=America/Vancouver:20260603T160000
DTEND;TZID=America/Vancouver:20260603T170000
DTSTAMP:20260423T030130
CREATED:20251104T212002Z
LAST-MODIFIED:20260304T164707Z
UID:10018420-1780502400-1780506000@www.chilliwackculturalcentre.ca
SUMMARY:Intro to Anime
DESCRIPTION:Price\n$110 – 6 sessions \nDates & Times\nWednesdays\, May 6 to June 10 – 4:00 – 5:00 pm\n \nInstructor\nColin Hoffman \nYouth (11-13)\, Beginner\n\n\n\nDive into the world of anime art with this beginner’s class that teaches students how to draw in the popular Japanese animation style. You’ll learn the key features of anime characters\, including large expressive eyes\, exaggerated expressions\, and dynamic poses. The class also covers basic anatomy and proportion\, helping you create characters that move and interact in a believable way. Whether you’re a fan of anime or interested in learning a new drawing style\, this class offers a fun and creative introduction to the art form. \n*All supplies included
URL:https://www.chilliwackculturalcentre.ca/ccc-event/intro-to-anime/2026-06-03/
LOCATION:Arts & Crafts Studio\, 9201 Corbould St\, Chilliwack\, British Columbia\, V2P 4A6\, Canada
CATEGORIES:Class Registration,Painting & Drawing Classes,Youth Class
ATTACH;FMTTYPE=image/webp:https://www.chilliwackculturalcentre.ca/wordpress/wp-content/uploads/2025/11/April-May-Class-Icons7.webp
END:VEVENT
BEGIN:VEVENT
DTSTART;TZID=America/Vancouver:20260610T160000
DTEND;TZID=America/Vancouver:20260610T170000
DTSTAMP:20260423T030130
CREATED:20251104T212002Z
LAST-MODIFIED:20260304T164707Z
UID:10018421-1781107200-1781110800@www.chilliwackculturalcentre.ca
SUMMARY:Intro to Anime
DESCRIPTION:Price\n$110 – 6 sessions \nDates & Times\nWednesdays\, May 6 to June 10 – 4:00 – 5:00 pm\n \nInstructor\nColin Hoffman \nYouth (11-13)\, Beginner\n\n\n\nDive into the world of anime art with this beginner’s class that teaches students how to draw in the popular Japanese animation style. You’ll learn the key features of anime characters\, including large expressive eyes\, exaggerated expressions\, and dynamic poses. The class also covers basic anatomy and proportion\, helping you create characters that move and interact in a believable way. Whether you’re a fan of anime or interested in learning a new drawing style\, this class offers a fun and creative introduction to the art form. \n*All supplies included
URL:https://www.chilliwackculturalcentre.ca/ccc-event/intro-to-anime/2026-06-10/
LOCATION:Arts & Crafts Studio\, 9201 Corbould St\, Chilliwack\, British Columbia\, V2P 4A6\, Canada
CATEGORIES:Class Registration,Painting & Drawing Classes,Youth Class
ATTACH;FMTTYPE=image/webp:https://www.chilliwackculturalcentre.ca/wordpress/wp-content/uploads/2025/11/April-May-Class-Icons7.webp
END:VEVENT
END:VCALENDAR