BEGIN:VCALENDAR
VERSION:2.0
PRODID:-//Chilliwack Cultural Centre - ECPv6.15.20//NONSGML v1.0//EN
CALSCALE:GREGORIAN
METHOD:PUBLISH
X-ORIGINAL-URL:https://www.chilliwackculturalcentre.ca
X-WR-CALDESC:Events for Chilliwack Cultural Centre
REFRESH-INTERVAL;VALUE=DURATION:PT1H
X-Robots-Tag:noindex
X-PUBLISHED-TTL:PT1H
BEGIN:VTIMEZONE
TZID:America/Vancouver
BEGIN:DAYLIGHT
TZOFFSETFROM:-0800
TZOFFSETTO:-0700
TZNAME:PDT
DTSTART:20250309T100000
END:DAYLIGHT
BEGIN:STANDARD
TZOFFSETFROM:-0700
TZOFFSETTO:-0800
TZNAME:PST
DTSTART:20251102T090000
END:STANDARD
BEGIN:DAYLIGHT
TZOFFSETFROM:-0800
TZOFFSETTO:-0700
TZNAME:PDT
DTSTART:20260308T100000
END:DAYLIGHT
BEGIN:STANDARD
TZOFFSETFROM:-0700
TZOFFSETTO:-0800
TZNAME:PST
DTSTART:20261101T090000
END:STANDARD
BEGIN:DAYLIGHT
TZOFFSETFROM:-0800
TZOFFSETTO:-0700
TZNAME:PDT
DTSTART:20270314T100000
END:DAYLIGHT
BEGIN:STANDARD
TZOFFSETFROM:-0700
TZOFFSETTO:-0800
TZNAME:PST
DTSTART:20271107T090000
END:STANDARD
END:VTIMEZONE
BEGIN:VEVENT
DTSTART;TZID=America/Vancouver:20261124T200000
DTEND;TZID=America/Vancouver:20261124T220000
DTSTAMP:20260420T082657
CREATED:20260107T192526Z
LAST-MODIFIED:20260203T210252Z
UID:10019115-1795550400-1795557600@www.chilliwackculturalcentre.ca
SUMMARY:The Music of Hans Zimmer & Others - A Celebration of Film Music
DESCRIPTION:Price:\n$99.90 – All Seats\, Tier 1 (Blue)\n$89.90 – All Seats\, Tier 2 (Red)\n$79.90 – All Seats\, Tier 3 (Green) \nDate and Time:\nNovember 24\, 2026 – 8:00 pm \n\n\n\n\n\n  \n\n\n\n\n\n\n  \nJoin us for an unforgettable concert event as a pirate from Pirates of the Caribbean leads you through the iconic scores of Hans Zimmer!\nDune\, James Bond\, The Lion King\, Gladiator\, The Dark Knight\, Inception\, Interstellar™ and its producers are trademarks of their respective owners. This concert is an independent event and is not affiliated with or endorsed by the studios\, production companies\, or respective trademark owners. \nFrom Dune to James Bond\, The Lion King\, Gladiator\, The Dark Knight\, Inception\, Interstellar\, and more – this captivating performance features a film orchestra\, choir\, guest soloists\, and exclusive film clips! \nDon’t miss this once-in-a-lifetime musical journey. Secure your tickets now and immerse yourself in the epic soundscapes of Hans Zimmer!
URL:https://www.chilliwackculturalcentre.ca/ccc-event/the-music-of-hans-zimmer-others-a-celebration-of-film-music/
LOCATION:HUB International Theatre\, 9201 Corbould St\, Chilliwack\, British Columbia\, V2P 4A6\, Canada
CATEGORIES:Show (Ticketed)
ATTACH;FMTTYPE=image/webp:https://www.chilliwackculturalcentre.ca/wordpress/wp-content/uploads/2025/12/HansZimmer_WEB.webp
END:VEVENT
END:VCALENDAR