BEGIN:VCALENDAR
VERSION:2.0
PRODID:-//Chilliwack Cultural Centre - ECPv6.15.20//NONSGML v1.0//EN
CALSCALE:GREGORIAN
METHOD:PUBLISH
X-ORIGINAL-URL:https://www.chilliwackculturalcentre.ca
X-WR-CALDESC:Events for Chilliwack Cultural Centre
REFRESH-INTERVAL;VALUE=DURATION:PT1H
X-Robots-Tag:noindex
X-PUBLISHED-TTL:PT1H
BEGIN:VTIMEZONE
TZID:America/Vancouver
BEGIN:DAYLIGHT
TZOFFSETFROM:-0800
TZOFFSETTO:-0700
TZNAME:PDT
DTSTART:20250309T100000
END:DAYLIGHT
BEGIN:STANDARD
TZOFFSETFROM:-0700
TZOFFSETTO:-0800
TZNAME:PST
DTSTART:20251102T090000
END:STANDARD
BEGIN:DAYLIGHT
TZOFFSETFROM:-0800
TZOFFSETTO:-0700
TZNAME:PDT
DTSTART:20260308T100000
END:DAYLIGHT
BEGIN:STANDARD
TZOFFSETFROM:-0700
TZOFFSETTO:-0800
TZNAME:PST
DTSTART:20261101T090000
END:STANDARD
BEGIN:DAYLIGHT
TZOFFSETFROM:-0800
TZOFFSETTO:-0700
TZNAME:PDT
DTSTART:20270314T100000
END:DAYLIGHT
BEGIN:STANDARD
TZOFFSETFROM:-0700
TZOFFSETTO:-0800
TZNAME:PST
DTSTART:20271107T090000
END:STANDARD
END:VTIMEZONE
BEGIN:VEVENT
DTSTART;TZID=America/Vancouver:20260529T183000
DTEND;TZID=America/Vancouver:20260529T213000
DTSTAMP:20260421T020459
CREATED:20260330T162110Z
LAST-MODIFIED:20260408T193245Z
UID:10019748-1780079400-1780090200@www.chilliwackculturalcentre.ca
SUMMARY:BCRMTA Spring Recital
DESCRIPTION:Price:\nAdmission by donation \nDate and Time:\nMay 29\, 2026 – 6:30 pm \n  \n\n  \nChilliwack B.C. Registered Music Teachers host their Spring Recital.\nWe have a talented group of students performing on various instruments and singing with instrumental accompaniment. This is a highlight of the year\, and we are so proud of all our students’ achievements and successes! We provide many bursaries to our amazing students each year and look forward to this recital to see them shine.
URL:https://www.chilliwackculturalcentre.ca/ccc-event/18384/
LOCATION:Rotary Hall Studio Theatre\, 9201 Corbould St\, Chilliwack\, British Columbia\, V2P 4A6\, Canada
CATEGORIES:Show (By Donation)
ATTACH;FMTTYPE=image/webp:https://www.chilliwackculturalcentre.ca/wordpress/wp-content/uploads/2026/03/BCRMTA-Spring-Recital_2026_WEB.webp
END:VEVENT
END:VCALENDAR